BEGIN:VCALENDAR
VERSION:2.0
PRODID:-//Center for Earth Ethics - ECPv6.15.19//NONSGML v1.0//EN
CALSCALE:GREGORIAN
METHOD:PUBLISH
X-ORIGINAL-URL:https://centerforearthethics.org
X-WR-CALDESC:Events for Center for Earth Ethics
REFRESH-INTERVAL;VALUE=DURATION:PT1H
X-Robots-Tag:noindex
X-PUBLISHED-TTL:PT1H
BEGIN:VTIMEZONE
TZID:America/Los_Angeles
BEGIN:DAYLIGHT
TZOFFSETFROM:-0800
TZOFFSETTO:-0700
TZNAME:PDT
DTSTART:20210314T100000
END:DAYLIGHT
BEGIN:STANDARD
TZOFFSETFROM:-0700
TZOFFSETTO:-0800
TZNAME:PST
DTSTART:20211107T090000
END:STANDARD
BEGIN:DAYLIGHT
TZOFFSETFROM:-0800
TZOFFSETTO:-0700
TZNAME:PDT
DTSTART:20220313T100000
END:DAYLIGHT
BEGIN:STANDARD
TZOFFSETFROM:-0700
TZOFFSETTO:-0800
TZNAME:PST
DTSTART:20221106T090000
END:STANDARD
BEGIN:DAYLIGHT
TZOFFSETFROM:-0800
TZOFFSETTO:-0700
TZNAME:PDT
DTSTART:20230312T100000
END:DAYLIGHT
BEGIN:STANDARD
TZOFFSETFROM:-0700
TZOFFSETTO:-0800
TZNAME:PST
DTSTART:20231105T090000
END:STANDARD
END:VTIMEZONE
BEGIN:VEVENT
DTSTART;TZID=America/Los_Angeles:20220914T072700
DTEND;TZID=America/Los_Angeles:20220914T200600
DTSTAMP:20260425T054948
CREATED:20220909T230440Z
LAST-MODIFIED:20220914T185157Z
UID:10000269-1663140420-1663185960@centerforearthethics.org
SUMMARY:36.5 / New York Estuary
DESCRIPTION:36.5 / A Durational Performance with the Sea is a series of nine site-specific performances and video artworks that engage the public in conversations about deep time and sea-level rise. Interdisciplinary artist Sarah Cameron Sunde stands in a tidal bay for the full tidal cycle (12-13 hours) as water engulfs her body and then reveals it again. She partners with local organizations and invites the public to participate by standing in the water with her and by marking each passing hour from the shore. These works have been created with hundreds of people in communities around the world: Maine\, Mexico\, San Francisco\, the Netherlands\, Bangladesh\, Brazil\, Kenya\, and Aotearoa-New Zealand. \n\n\n\n36.5 / New York Estuary is the ninth and final work in the series. Join Executive Director Karenna Gore and others as they join Sunde at the Cove in Astoria\, Queens. \n\n\n\nThis duration\, 7:27 a.m. to 8:06 p.m. (12 hours\, 39 minutes)\, relates to the timing of the full tidal cycle in Lenapehoking-New York City near The Cove on September 14\, 2022
URL:https://centerforearthethics.org/event/36-5-new-york-estuary/
LOCATION:The Cove\, 31-10 Vernon Blvd.\, Queens\, New York\, United States
CATEGORIES:Arts
ATTACH;FMTTYPE=image/jpeg:https://centerforearthethics.org/wp-content/uploads/2022/09/Untitled.jpg
END:VEVENT
END:VCALENDAR