BEGIN:VCALENDAR
VERSION:2.0
PRODID:-//Center for Earth Ethics - ECPv6.15.19//NONSGML v1.0//EN
CALSCALE:GREGORIAN
METHOD:PUBLISH
X-WR-CALNAME:Center for Earth Ethics
X-ORIGINAL-URL:https://centerforearthethics.org
X-WR-CALDESC:Events for Center for Earth Ethics
REFRESH-INTERVAL;VALUE=DURATION:PT1H
X-Robots-Tag:noindex
X-PUBLISHED-TTL:PT1H
BEGIN:VTIMEZONE
TZID:America/Los_Angeles
BEGIN:DAYLIGHT
TZOFFSETFROM:-0800
TZOFFSETTO:-0700
TZNAME:PDT
DTSTART:20240310T100000
END:DAYLIGHT
BEGIN:STANDARD
TZOFFSETFROM:-0700
TZOFFSETTO:-0800
TZNAME:PST
DTSTART:20241103T090000
END:STANDARD
BEGIN:DAYLIGHT
TZOFFSETFROM:-0800
TZOFFSETTO:-0700
TZNAME:PDT
DTSTART:20250309T100000
END:DAYLIGHT
BEGIN:STANDARD
TZOFFSETFROM:-0700
TZOFFSETTO:-0800
TZNAME:PST
DTSTART:20251102T090000
END:STANDARD
BEGIN:DAYLIGHT
TZOFFSETFROM:-0800
TZOFFSETTO:-0700
TZNAME:PDT
DTSTART:20260308T100000
END:DAYLIGHT
BEGIN:STANDARD
TZOFFSETFROM:-0700
TZOFFSETTO:-0800
TZNAME:PST
DTSTART:20261101T090000
END:STANDARD
END:VTIMEZONE
BEGIN:VEVENT
DTSTART;TZID=America/Los_Angeles:20251021T173000
DTEND;TZID=America/Los_Angeles:20251021T193000
DTSTAMP:20260421T064804
CREATED:20251002T180845Z
LAST-MODIFIED:20251014T171631Z
UID:10000619-1761067800-1761075000@centerforearthethics.org
SUMMARY:Book Talk | "Sacred Resistance: Eco-Activism and the Rise of New Spiritual Communities"
DESCRIPTION:Join the Center for Earth Ethics and Union Theological Seminary’s Eco-Justice Caucus at UTS’s Burke Library for a dialogue and discussion with Mark Clatterbuck\, editor of a new volume from Orbis Books. With a forward by Winona LaDuke\, “Sacred Resistance” weaves together “five deep and rich case studies of spiritually-based eco-activism written by those engaged in the struggle.”  \n\n\n\nPlease enter at the northwest corner of 120th and Broadway.
URL:https://centerforearthethics.org/event/book-talk-sacred-resistance-eco-activism-and-the-rise-of-new-spiritual-communities/
LOCATION:The Burke Library at Union Theological Seminary\, 3041 Broadway
ATTACH;FMTTYPE=image/png:https://centerforearthethics.org/wp-content/uploads/2025/10/Spirit-of-Place-Flyer-2.png
END:VEVENT
END:VCALENDAR