BEGIN:VCALENDAR
VERSION:2.0
PRODID:-//Center for Earth Ethics - ECPv6.15.19//NONSGML v1.0//EN
CALSCALE:GREGORIAN
METHOD:PUBLISH
X-ORIGINAL-URL:https://centerforearthethics.org
X-WR-CALDESC:Events for Center for Earth Ethics
REFRESH-INTERVAL;VALUE=DURATION:PT1H
X-Robots-Tag:noindex
X-PUBLISHED-TTL:PT1H
BEGIN:VTIMEZONE
TZID:America/Los_Angeles
BEGIN:DAYLIGHT
TZOFFSETFROM:-0800
TZOFFSETTO:-0700
TZNAME:PDT
DTSTART:20240310T100000
END:DAYLIGHT
BEGIN:STANDARD
TZOFFSETFROM:-0700
TZOFFSETTO:-0800
TZNAME:PST
DTSTART:20241103T090000
END:STANDARD
BEGIN:DAYLIGHT
TZOFFSETFROM:-0800
TZOFFSETTO:-0700
TZNAME:PDT
DTSTART:20250309T100000
END:DAYLIGHT
BEGIN:STANDARD
TZOFFSETFROM:-0700
TZOFFSETTO:-0800
TZNAME:PST
DTSTART:20251102T090000
END:STANDARD
BEGIN:DAYLIGHT
TZOFFSETFROM:-0800
TZOFFSETTO:-0700
TZNAME:PDT
DTSTART:20260308T100000
END:DAYLIGHT
BEGIN:STANDARD
TZOFFSETFROM:-0700
TZOFFSETTO:-0800
TZNAME:PST
DTSTART:20261101T090000
END:STANDARD
END:VTIMEZONE
BEGIN:VEVENT
DTSTART;TZID=America/Los_Angeles:20251105T093000
DTEND;TZID=America/Los_Angeles:20251105T130000
DTSTAMP:20260419T084948
CREATED:20251029T234411Z
LAST-MODIFIED:20251029T234414Z
UID:10000621-1762335000-1762347600@centerforearthethics.org
SUMMARY:Fall 2025 Faith Sector Forum: Building Hope & Safety in a Changing Climate
DESCRIPTION:Faith organizations play a central role in supporting New Yorkers during crises\, yet many lack access to the tools and training needed to plan for future risks. The NYC Faith Sector Climate Adaptation Working Group\, convened by New York Disaster & Interfaith Services (NYDIS) and Rebuild by Design\, invites faith leaders and partners to a focused discussion on how the faith sector can work together to prepare for these growing challenges. \n\n\n\nThis convening will introduce the Faith Sector Climate Adaptation Toolkit\, developed through site visits\, trainings\, and conversations with leaders in all five boroughs. The toolkit offers practical resources to strengthen preparedness\, communication\, and advocacy. Participants will engage in panels and breakout sessions to share experiences\, identify needs\, and explore ways to build collective capacity for a safer and more resilient city.
URL:https://centerforearthethics.org/event/fall-2025-faith-sector-forum-building-hope-safety-in-a-changing-climate/
LOCATION:Rebuild By Design
ATTACH;FMTTYPE=image/jpeg:https://centerforearthethics.org/wp-content/uploads/2025/10/Fall-2025-Forum-climate-safety-1.jpg
END:VEVENT
END:VCALENDAR