BEGIN:VCALENDAR
VERSION:2.0
PRODID:-//Center for Earth Ethics - ECPv6.15.19//NONSGML v1.0//EN
CALSCALE:GREGORIAN
METHOD:PUBLISH
X-WR-CALNAME:Center for Earth Ethics
X-ORIGINAL-URL:https://centerforearthethics.org
X-WR-CALDESC:Events for Center for Earth Ethics
REFRESH-INTERVAL;VALUE=DURATION:PT1H
X-Robots-Tag:noindex
X-PUBLISHED-TTL:PT1H
BEGIN:VTIMEZONE
TZID:America/Los_Angeles
BEGIN:DAYLIGHT
TZOFFSETFROM:-0800
TZOFFSETTO:-0700
TZNAME:PDT
DTSTART:20210314T100000
END:DAYLIGHT
BEGIN:STANDARD
TZOFFSETFROM:-0700
TZOFFSETTO:-0800
TZNAME:PST
DTSTART:20211107T090000
END:STANDARD
BEGIN:DAYLIGHT
TZOFFSETFROM:-0800
TZOFFSETTO:-0700
TZNAME:PDT
DTSTART:20220313T100000
END:DAYLIGHT
BEGIN:STANDARD
TZOFFSETFROM:-0700
TZOFFSETTO:-0800
TZNAME:PST
DTSTART:20221106T090000
END:STANDARD
BEGIN:DAYLIGHT
TZOFFSETFROM:-0800
TZOFFSETTO:-0700
TZNAME:PDT
DTSTART:20230312T100000
END:DAYLIGHT
BEGIN:STANDARD
TZOFFSETFROM:-0700
TZOFFSETTO:-0800
TZNAME:PST
DTSTART:20231105T090000
END:STANDARD
END:VTIMEZONE
BEGIN:VEVENT
DTSTART;TZID=America/Los_Angeles:20220921T163000
DTEND;TZID=America/Los_Angeles:20220921T183000
DTSTAMP:20260425T053605
CREATED:20220910T013345Z
LAST-MODIFIED:20220920T211528Z
UID:10000270-1663777800-1663785000@centerforearthethics.org
SUMMARY:Reframing Environmental Jurisprudence towards Interconnection
DESCRIPTION:Jerome Greene Hall\, Room 104\, Columbia Law School435 West 116th Street\, New York \n\n\n\nJoin us to learn about the future of environmental jurisprudence in light of climate change and biodiversity loss. Topics will include the rights of nature\, rights of future generations\, and other Earth-centered paradigms. \n\n\n\nPanelists include Paulette Jordan\, Save the American Salmon\, Janet Maccillivray\, Seeding Sovereignty\, Karenna Gore\, Esq.\, Center For Earth Ethics\, Michael Gerrard\, Esq.\, Columbia Law School\, and Elizabeth Dunne\, Esq.\, Earth Law Center. Barnard College student Renata Happle will moderate\, and Maliya Francis\, a Future Earth Leader and a student at Avenues: The World School\, will make a special introduction. \n\n\n\nThis panel is hosted by Columbia’s Sabin Center for Climate Change Law and Earth Law Center.
URL:https://centerforearthethics.org/event/reframing-environmental-jurisprudence-toward-interconnection/
LOCATION:Columbia Law School\, 435 West 116th Street\, New York\, New York\, 10027\, United States
CATEGORIES:Environmental Justice & Civic Engagement,Rights of Nature & Ecocentric Law
ATTACH;FMTTYPE=image/jpeg:https://centerforearthethics.org/wp-content/uploads/2022/09/1662411895427.jpeg
END:VEVENT
END:VCALENDAR