BEGIN:VCALENDAR
VERSION:2.0
PRODID:-//Center for Earth Ethics - ECPv6.15.19//NONSGML v1.0//EN
CALSCALE:GREGORIAN
METHOD:PUBLISH
X-ORIGINAL-URL:https://centerforearthethics.org
X-WR-CALDESC:Events for Center for Earth Ethics
REFRESH-INTERVAL;VALUE=DURATION:PT1H
X-Robots-Tag:noindex
X-PUBLISHED-TTL:PT1H
BEGIN:VTIMEZONE
TZID:America/Los_Angeles
BEGIN:DAYLIGHT
TZOFFSETFROM:-0800
TZOFFSETTO:-0700
TZNAME:PDT
DTSTART:20240310T100000
END:DAYLIGHT
BEGIN:STANDARD
TZOFFSETFROM:-0700
TZOFFSETTO:-0800
TZNAME:PST
DTSTART:20241103T090000
END:STANDARD
BEGIN:DAYLIGHT
TZOFFSETFROM:-0800
TZOFFSETTO:-0700
TZNAME:PDT
DTSTART:20250309T100000
END:DAYLIGHT
BEGIN:STANDARD
TZOFFSETFROM:-0700
TZOFFSETTO:-0800
TZNAME:PST
DTSTART:20251102T090000
END:STANDARD
BEGIN:DAYLIGHT
TZOFFSETFROM:-0800
TZOFFSETTO:-0700
TZNAME:PDT
DTSTART:20260308T100000
END:DAYLIGHT
BEGIN:STANDARD
TZOFFSETFROM:-0700
TZOFFSETTO:-0800
TZNAME:PST
DTSTART:20261101T090000
END:STANDARD
END:VTIMEZONE
BEGIN:VEVENT
DTSTART;TZID=America/Los_Angeles:20251201T163000
DTEND;TZID=America/Los_Angeles:20251201T173000
DTSTAMP:20260419T095605
CREATED:20251126T185436Z
LAST-MODIFIED:20251126T191412Z
UID:10000626-1764606600-1764610200@centerforearthethics.org
SUMMARY:Reflections from Belém: Columbia at COP30
DESCRIPTION:As the world turns from negotiation to implementation following COP30 in Belém\, the Columbia Climate School invites you to join the final installment of the Countdown to COP30 series: Reflections from Belém: Columbia at COP30. \n\n\n\nThis closing session will feature firsthand insights from Columbia faculty and student delegates who attended COP30\, highlighting key takeaways\, breakthrough moments\, and the road ahead. The discussion will explore what was achieved in Belém\, how Columbia contributed\, and how the university will continue to support global climate implementation and accountability efforts moving forward. \n\n\n\nModerated by Jeffrey Schlegelmilch\, associate professor of professional practice in the Faculty of Climate\, Director\, National Center for Disaster Preparedness (NCDP)\, director of executive education and non-degree programs\, Executive Education \n\n\n\nPanelist \n\n\n\n\nSheila Foster– Professor of Climate\, Columbia Climate School\n\n\n\nAmy Campbell – Executive Office of the UN Secretary General (Adaptation Workstream)\, Former UK Climate Negotiator and Climate School Alumna\n\n\n\nKarenna Gore– Executive Director\, Center for Earth Ethics\, & Teaching Professor of Practice of Earth Ethics\, Union Theological Seminary\n\n\n\n\nReception to follow from 5:30 PM to 6:30 PM next door in Room 316
URL:https://centerforearthethics.org/event/reflections-from-belem-columbia-at-cop30/
LOCATION:The Forum at Columbia University\, 601 West 125th St.\, New York\, NY 10027
ATTACH;FMTTYPE=image/jpeg:https://centerforearthethics.org/wp-content/uploads/2025/11/COP-scaled.jpeg
END:VEVENT
END:VCALENDAR