BEGIN:VCALENDAR
VERSION:2.0
PRODID:-//Center for Earth Ethics - ECPv6.15.19//NONSGML v1.0//EN
CALSCALE:GREGORIAN
METHOD:PUBLISH
X-ORIGINAL-URL:https://centerforearthethics.org
X-WR-CALDESC:Events for Center for Earth Ethics
REFRESH-INTERVAL;VALUE=DURATION:PT1H
X-Robots-Tag:noindex
X-PUBLISHED-TTL:PT1H
BEGIN:VTIMEZONE
TZID:America/Los_Angeles
BEGIN:DAYLIGHT
TZOFFSETFROM:-0800
TZOFFSETTO:-0700
TZNAME:PDT
DTSTART:20210314T100000
END:DAYLIGHT
BEGIN:STANDARD
TZOFFSETFROM:-0700
TZOFFSETTO:-0800
TZNAME:PST
DTSTART:20211107T090000
END:STANDARD
BEGIN:DAYLIGHT
TZOFFSETFROM:-0800
TZOFFSETTO:-0700
TZNAME:PDT
DTSTART:20220313T100000
END:DAYLIGHT
BEGIN:STANDARD
TZOFFSETFROM:-0700
TZOFFSETTO:-0800
TZNAME:PST
DTSTART:20221106T090000
END:STANDARD
BEGIN:DAYLIGHT
TZOFFSETFROM:-0800
TZOFFSETTO:-0700
TZNAME:PDT
DTSTART:20230312T100000
END:DAYLIGHT
BEGIN:STANDARD
TZOFFSETFROM:-0700
TZOFFSETTO:-0800
TZNAME:PST
DTSTART:20231105T090000
END:STANDARD
END:VTIMEZONE
BEGIN:VEVENT
DTSTART;TZID=America/Los_Angeles:20221120T160000
DTEND;TZID=America/Los_Angeles:20221120T173000
DTSTAMP:20260425T035051
CREATED:20221118T174324Z
LAST-MODIFIED:20221118T180909Z
UID:10000513-1668960000-1668965400@centerforearthethics.org
SUMMARY:Rethinking Thanksgiving: From Land Acknowledgement to LANDBACK
DESCRIPTION:Indigenous solidarity is an essential part of the struggle for racial and environmental justice. It is critical that we deepen our commitment to Indigenous Sovereignty in ourselves and in our movements\, take collective action towards land rematriation and support efforts to ensure a just and sustainable existence for all of our future generations. \n \n \nJoin Tonatierra\, NDN Collective\, American Indian Law Alliance\, Sogorea Te Land Trust and the Indigenous Solidarity Network for “Rethinking Thanksgiving: From Land Acknowledgement to LANDBACK” on Sunday\, November 20 at 1 pm PT/4 pm ET. This webinar is an invitation to interrogate so-called Thanksgiving\, and move beyond the myths of America’s history with Indigenous Peoples of Turtle Island. \n \n \nFrom tar sands pipelines across Turtle Island to Arctic oil and gas drilling\, Indigenous campaigns of resistance continue to lead the way in protecting future generations against the destruction of sacred lands and waterways. \n \n \nMoving into a deeper understanding of how colonialism is embedded into our frameworks and systems builds our capacity to be better allies to Indigenous Peoples. In this webinar\, we will hear from the frontlines of Indigenous efforts to resist violence and colonization fueled by the current extractive economic system and gather ways to further and deepen solidarity with Indigenous resistance including land rematriation. \nRegister Today\n \n \nLive Captioning\, ASL and Spanish interpretation will be available on the call. \nAccessibility form here: bit.ly/3tAoMeu 
URL:https://centerforearthethics.org/event/rethinking-thanksgiving-from-land-acknowledgement-to-landback/
ATTACH;FMTTYPE=image/png:https://centerforearthethics.org/wp-content/uploads/2022/11/Rethinkin-Thanksgiving-1200-×-628-px-3.png
END:VEVENT
END:VCALENDAR