BEGIN:VCALENDAR
VERSION:2.0
PRODID:-//Center for Earth Ethics - ECPv6.15.19//NONSGML v1.0//EN
CALSCALE:GREGORIAN
METHOD:PUBLISH
X-WR-CALNAME:Center for Earth Ethics
X-ORIGINAL-URL:https://centerforearthethics.org
X-WR-CALDESC:Events for Center for Earth Ethics
REFRESH-INTERVAL;VALUE=DURATION:PT1H
X-Robots-Tag:noindex
X-PUBLISHED-TTL:PT1H
BEGIN:VTIMEZONE
TZID:America/Los_Angeles
BEGIN:DAYLIGHT
TZOFFSETFROM:-0800
TZOFFSETTO:-0700
TZNAME:PDT
DTSTART:20250309T100000
END:DAYLIGHT
BEGIN:STANDARD
TZOFFSETFROM:-0700
TZOFFSETTO:-0800
TZNAME:PST
DTSTART:20251102T090000
END:STANDARD
BEGIN:DAYLIGHT
TZOFFSETFROM:-0800
TZOFFSETTO:-0700
TZNAME:PDT
DTSTART:20260308T100000
END:DAYLIGHT
BEGIN:STANDARD
TZOFFSETFROM:-0700
TZOFFSETTO:-0800
TZNAME:PST
DTSTART:20261101T090000
END:STANDARD
BEGIN:DAYLIGHT
TZOFFSETFROM:-0800
TZOFFSETTO:-0700
TZNAME:PDT
DTSTART:20270314T100000
END:DAYLIGHT
BEGIN:STANDARD
TZOFFSETFROM:-0700
TZOFFSETTO:-0800
TZNAME:PST
DTSTART:20271107T090000
END:STANDARD
END:VTIMEZONE
BEGIN:VEVENT
DTSTART;TZID=America/Los_Angeles:20260423T183000
DTEND;TZID=America/Los_Angeles:20260423T203000
DTSTAMP:20260423T160826
CREATED:20260320T160105Z
LAST-MODIFIED:20260320T160856Z
UID:10000631-1776969000-1776976200@centerforearthethics.org
SUMMARY:The Earth in Trust: Law\, Faith Traditions\, and the Work Of Environmental Accountability
DESCRIPTION:On Thursday\, April 23\, CEE Executive Director Karenna Gore will join Adam D Orford (Fordham Law School)\, Kit Kennedy (NRDC) and Hakan Yesilova (The Fountain Magazine) for an interdisciplinary conversation hosted by Fordham University’s Institute on Religion\, Law & Lawyer’s Work\, The Pastrana Foundation\, and the Peace Islands Institute. Panelists will explore how interfaith perspectives and legal expertise engage the urgent challenges of environmental and climate justice.  \n\n\n\nRecent debates over climate governance and regulatory authority have underscored how contested the foundations of environmental responsibility and accountability remain. Against this backdrop\, this interdisciplinary conversation will highlight how legal frameworks intersect with enduring religious traditions of stewardship\, solidarity and care for vulnerable communities. Grounded in the pursuit of the common good\, panelists will examine how law and faith traditions can deepen responsibility\, sustain hope\, and inspire compassionate action for the Earth and for one another in an ecological age. \n\n\n\nThe event is hosted in collaboration with Fordham Environmental Law Advocates and the Center for Earth Ethics.
URL:https://centerforearthethics.org/event/the-earth-in-trust-law-faith-traditions-and-the-work-of-environmental-accountability/
LOCATION:Fordham University – Lincoln Center School of Law\, Moot Court\, Room 1-01\, 150 West 62nd Street\, New York\, New York\, 10023
ATTACH;FMTTYPE=image/png:https://centerforearthethics.org/wp-content/uploads/2026/03/Screenshot-2026-03-20-at-11.43.29-AM.png
END:VEVENT
END:VCALENDAR